BEGIN:VCALENDAR
VERSION:2.0
PRODID:-//NJSPBA - ECPv6.15.20//NONSGML v1.0//EN
CALSCALE:GREGORIAN
METHOD:PUBLISH
X-ORIGINAL-URL:https://njspba.com
X-WR-CALDESC:Events for NJSPBA
REFRESH-INTERVAL;VALUE=DURATION:PT1H
X-Robots-Tag:noindex
X-PUBLISHED-TTL:PT1H
BEGIN:VTIMEZONE
TZID:UTC
BEGIN:STANDARD
TZOFFSETFROM:+0000
TZOFFSETTO:+0000
TZNAME:UTC
DTSTART:20230101T000000
END:STANDARD
END:VTIMEZONE
BEGIN:VEVENT
DTSTART;VALUE=DATE:20241231
DTEND;VALUE=DATE:20250102
DTSTAMP:20260425T211836
CREATED:20241029T155000Z
LAST-MODIFIED:20241219T211435Z
UID:10000023-1735603200-1735775999@njspba.com
SUMMARY:Office Closed 🛑 New Year's Eve
DESCRIPTION:Public Holiday
URL:https://njspba.com/event/new-years-eve/
CATEGORIES:Holidays
END:VEVENT
BEGIN:VEVENT
DTSTART;VALUE=DATE:20250120
DTEND;VALUE=DATE:20250121
DTSTAMP:20260425T211836
CREATED:20241029T155001Z
LAST-MODIFIED:20250115T183836Z
UID:10000024-1737331200-1737417599@njspba.com
SUMMARY:Office Closed 🛑 Martin Luther King Jr. Day
DESCRIPTION:Public holiday
URL:https://njspba.com/event/martin-luther-king-jr-day/
CATEGORIES:Holidays
END:VEVENT
BEGIN:VEVENT
DTSTART;VALUE=DATE:20250120
DTEND;VALUE=DATE:20250121
DTSTAMP:20260425T211836
CREATED:20241029T155001Z
LAST-MODIFIED:20241029T155001Z
UID:10000025-1737331200-1737417599@njspba.com
SUMMARY:Inauguration Day (regional holiday)
DESCRIPTION:Public holiday in District of Columbia\, Maryland\, Virginia
URL:https://njspba.com/event/inauguration-day-regional-holiday/
CATEGORIES:Holidays
END:VEVENT
END:VCALENDAR