BEGIN:VCALENDAR
VERSION:2.0
PRODID:-//NJSPBA - ECPv6.15.20//NONSGML v1.0//EN
CALSCALE:GREGORIAN
METHOD:PUBLISH
X-ORIGINAL-URL:https://njspba.com
X-WR-CALDESC:Events for NJSPBA
REFRESH-INTERVAL;VALUE=DURATION:PT1H
X-Robots-Tag:noindex
X-PUBLISHED-TTL:PT1H
BEGIN:VTIMEZONE
TZID:UTC
BEGIN:STANDARD
TZOFFSETFROM:+0000
TZOFFSETTO:+0000
TZNAME:UTC
DTSTART:20240101T000000
END:STANDARD
END:VTIMEZONE
BEGIN:VEVENT
DTSTART;VALUE=DATE:20250201
DTEND;VALUE=DATE:20250202
DTSTAMP:20260425T194233
CREATED:20241029T155001Z
LAST-MODIFIED:20241029T155001Z
UID:10000026-1738368000-1738454399@njspba.com
SUMMARY:First Day of Black History Month
DESCRIPTION:Observance\nTo hide observances\, go to Google Calendar Settings > Holidays in United States
URL:https://njspba.com/event/first-day-of-black-history-month/
CATEGORIES:Holidays
END:VEVENT
BEGIN:VEVENT
DTSTART;VALUE=DATE:20250214
DTEND;VALUE=DATE:20250215
DTSTAMP:20260425T194233
CREATED:20241029T155001Z
LAST-MODIFIED:20241029T155001Z
UID:10000027-1739491200-1739577599@njspba.com
SUMMARY:Valentine's Day
DESCRIPTION:Observance\nTo hide observances\, go to Google Calendar Settings > Holidays in United States
URL:https://njspba.com/event/valentines-day/
CATEGORIES:Holidays
END:VEVENT
BEGIN:VEVENT
DTSTART;VALUE=DATE:20250217
DTEND;VALUE=DATE:20250218
DTSTAMP:20260425T194233
CREATED:20241029T155001Z
LAST-MODIFIED:20241219T211052Z
UID:10000028-1739750400-1739836799@njspba.com
SUMMARY:Office Closed 🛑 Presidents' Day
DESCRIPTION:Public holiday
URL:https://njspba.com/event/presidents-day/
CATEGORIES:Holidays
END:VEVENT
END:VCALENDAR