BEGIN:VCALENDAR
VERSION:2.0
PRODID:-//NJSPBA - ECPv6.15.20//NONSGML v1.0//EN
CALSCALE:GREGORIAN
METHOD:PUBLISH
X-WR-CALNAME:NJSPBA
X-ORIGINAL-URL:https://njspba.com
X-WR-CALDESC:Events for NJSPBA
REFRESH-INTERVAL;VALUE=DURATION:PT1H
X-Robots-Tag:noindex
X-PUBLISHED-TTL:PT1H
BEGIN:VTIMEZONE
TZID:America/New_York
BEGIN:DAYLIGHT
TZOFFSETFROM:-0500
TZOFFSETTO:-0400
TZNAME:EDT
DTSTART:20250309T070000
END:DAYLIGHT
BEGIN:STANDARD
TZOFFSETFROM:-0400
TZOFFSETTO:-0500
TZNAME:EST
DTSTART:20251102T060000
END:STANDARD
BEGIN:DAYLIGHT
TZOFFSETFROM:-0500
TZOFFSETTO:-0400
TZNAME:EDT
DTSTART:20260308T070000
END:DAYLIGHT
BEGIN:STANDARD
TZOFFSETFROM:-0400
TZOFFSETTO:-0500
TZNAME:EST
DTSTART:20261101T060000
END:STANDARD
BEGIN:DAYLIGHT
TZOFFSETFROM:-0500
TZOFFSETTO:-0400
TZNAME:EDT
DTSTART:20270314T070000
END:DAYLIGHT
BEGIN:STANDARD
TZOFFSETFROM:-0400
TZOFFSETTO:-0500
TZNAME:EST
DTSTART:20271107T060000
END:STANDARD
END:VTIMEZONE
BEGIN:VEVENT
DTSTART;TZID=America/New_York:20260307T150000
DTEND;TZID=America/New_York:20260307T150000
DTSTAMP:20260421T185207
CREATED:20260209T155608Z
LAST-MODIFIED:20260209T155608Z
UID:10000281-1772895600-1772895600@njspba.com
SUMMARY:Police Unity Tour – Team Monmouth County Fundraiser 2026
DESCRIPTION:Residents are warmly invited to support the Police Unity Tour – Team Monmouth County at a community fundraiser benefiting the mission of honoring officers who have made the ultimate sacrifice. Join neighbors and local law enforcement partners for an afternoon of food\, entertainment\, and fundraising activities. \nEvent Details \n\nDate: Saturday\, March 7\, 2026\nTime: 3:00 PM\nLocation: Bar Anticipation\, 703 16th Avenue\, Lake Como\, NJ\n\nAdmission / Donation \n\n$30 donation in advance\n$35 donation at the door\nTickets can be purchased at any of the participating agencies listed on the flyer.\n\nWhat to Expect \n\nFree buffet\nDrink specials\nHuge gift auction\nSuper 50/50\nAnd more surprises throughout the event!\n\nLive EntertainmentEnjoy live music by the Phil Engel Band. \nParticipating Team Monmouth County Agencies (as listed):Belmar\, Spring Lake\, Spring Lake Heights\, Avon-by-the-Sea\, Sea Girt\, Bradley Beach\, Wall Township\, Colts Neck\, Keyport\, Asbury Park\, Manasquan\, Rumson\, Hazlet\, Red Bank\, Matawan\, Tinton Falls\, New Jersey State Police\, Monmouth County Chiefs Association\, Monmouth County Prosecutor’s Office. \nCommunity Message“We Ride for Those Who Died.” \nWe hope you’ll join in supporting this meaningful cause and showing appreciation for the service and sacrifice of our law enforcement community.
URL:https://njspba.com/event/police-unity-tour-team-monmouth-county-fundraiser-2026/
CATEGORIES:Local PBA Events
ATTACH;FMTTYPE=image/jpeg:https://njspba.com/wp-content/uploads/2026/02/Team-Monmouth-County-Fundraiser-Flyer-2026.jpg
END:VEVENT
END:VCALENDAR