BEGIN:VCALENDAR
VERSION:2.0
PRODID:-//NJSPBA - ECPv6.15.20//NONSGML v1.0//EN
CALSCALE:GREGORIAN
METHOD:PUBLISH
X-WR-CALNAME:NJSPBA
X-ORIGINAL-URL:https://njspba.com
X-WR-CALDESC:Events for NJSPBA
REFRESH-INTERVAL;VALUE=DURATION:PT1H
X-Robots-Tag:noindex
X-PUBLISHED-TTL:PT1H
BEGIN:VTIMEZONE
TZID:America/New_York
BEGIN:DAYLIGHT
TZOFFSETFROM:-0500
TZOFFSETTO:-0400
TZNAME:EDT
DTSTART:20250309T070000
END:DAYLIGHT
BEGIN:STANDARD
TZOFFSETFROM:-0400
TZOFFSETTO:-0500
TZNAME:EST
DTSTART:20251102T060000
END:STANDARD
BEGIN:DAYLIGHT
TZOFFSETFROM:-0500
TZOFFSETTO:-0400
TZNAME:EDT
DTSTART:20260308T070000
END:DAYLIGHT
BEGIN:STANDARD
TZOFFSETFROM:-0400
TZOFFSETTO:-0500
TZNAME:EST
DTSTART:20261101T060000
END:STANDARD
BEGIN:DAYLIGHT
TZOFFSETFROM:-0500
TZOFFSETTO:-0400
TZNAME:EDT
DTSTART:20270314T070000
END:DAYLIGHT
BEGIN:STANDARD
TZOFFSETFROM:-0400
TZOFFSETTO:-0500
TZNAME:EST
DTSTART:20271107T060000
END:STANDARD
END:VTIMEZONE
BEGIN:VEVENT
DTSTART;TZID=America/New_York:20260517T100000
DTEND;TZID=America/New_York:20260517T150000
DTSTAMP:20260421T203625
CREATED:20260407T135012Z
LAST-MODIFIED:20260407T135037Z
UID:10000295-1779012000-1779030000@njspba.com
SUMMARY:Hackensack PBA Local 9 5th Annual Car Show
DESCRIPTION:Hackensack PBA Local 9 invites residents\, families\, and car enthusiasts to attend the 5th Annual Car Show on May 17 from 10:00 AM to 3:00 PM at Hackensack Costco\, 80 South River Street\, Hackensack\, NJ. \nThis exciting community event will feature motorcycles\, cars\, trucks\, and SUVs\, along with food\, music\, trophies\, and car club participation. Entertainment will be provided by DJ Nawtee\, creating a fun and lively atmosphere for attendees of all ages. \nVehicle registration is $20\, and spectators are admitted free. In the event of rain\, the rain date is May 24. \nCome out and enjoy a day of community spirit\, great vehicles\, and family-friendly fun while supporting Hackensack PBA Local 9.
URL:https://njspba.com/event/hackensack-pba-local-9-5th-annual-car-show/
CATEGORIES:Local PBA Events
ATTACH;FMTTYPE=image/jpeg:https://njspba.com/wp-content/uploads/2026/04/Car-Show.jpg
END:VEVENT
END:VCALENDAR