BEGIN:VCALENDAR
VERSION:2.0
PRODID:-//NJSPBA - ECPv6.15.20//NONSGML v1.0//EN
CALSCALE:GREGORIAN
METHOD:PUBLISH
X-WR-CALNAME:NJSPBA
X-ORIGINAL-URL:https://njspba.com
X-WR-CALDESC:Events for NJSPBA
REFRESH-INTERVAL;VALUE=DURATION:PT1H
X-Robots-Tag:noindex
X-PUBLISHED-TTL:PT1H
BEGIN:VTIMEZONE
TZID:America/New_York
BEGIN:DAYLIGHT
TZOFFSETFROM:-0500
TZOFFSETTO:-0400
TZNAME:EDT
DTSTART:20250309T070000
END:DAYLIGHT
BEGIN:STANDARD
TZOFFSETFROM:-0400
TZOFFSETTO:-0500
TZNAME:EST
DTSTART:20251102T060000
END:STANDARD
BEGIN:DAYLIGHT
TZOFFSETFROM:-0500
TZOFFSETTO:-0400
TZNAME:EDT
DTSTART:20260308T070000
END:DAYLIGHT
BEGIN:STANDARD
TZOFFSETFROM:-0400
TZOFFSETTO:-0500
TZNAME:EST
DTSTART:20261101T060000
END:STANDARD
BEGIN:DAYLIGHT
TZOFFSETFROM:-0500
TZOFFSETTO:-0400
TZNAME:EDT
DTSTART:20270314T070000
END:DAYLIGHT
BEGIN:STANDARD
TZOFFSETFROM:-0400
TZOFFSETTO:-0500
TZNAME:EST
DTSTART:20271107T060000
END:STANDARD
END:VTIMEZONE
BEGIN:VEVENT
DTSTART;TZID=America/New_York:20260421T183000
DTEND;TZID=America/New_York:20260421T223000
DTSTAMP:20260421T153425
CREATED:20260219T184154Z
LAST-MODIFIED:20260219T184154Z
UID:10000285-1776796200-1776810600@njspba.com
SUMMARY:Cigar & Whiskey Night – Brunswick Grove (Monroe Twp. PBA)
DESCRIPTION:Enjoy an evening of great company\, premium cigars\, and whiskey at Cigar & Whiskey Night\, hosted by the Monroe Township PBA at Brunswick Grove. This is a relaxed\, adults-only social event supporting the PBA and its community efforts—perfect for a night out with friends or colleagues. \nEvent Details\n\nDate: April 21\nTime: 6:30 PM – 10:30 PM\nLocation: Brunswick Grove327 Milltown Rd\, East Brunswick\, NJ\nAdmission: $125 per personIncludes open bar & buffet\n\nSponsorship Opportunities\nSupport the event and gain recognition through one of the following levels: \n\nPlatinum Sponsor – $2\,000\n\nName on group sign\nName & logo on banner\n\n\n5 complimentary tickets\n\nReserved private table\n\n\nGold Sponsor – $1\,000\n\nName on group sign\nName & logo on individual small sign\n2 complimentary tickets\n\n\nSilver Sponsor – $500\n\nName on group sign\nName on individual sign\n2 complimentary tickets\n\n\nBronze Sponsor – $150\n\nName on group sign\n\n\nPBA Supporter – $50\n\nDonation option for those unable to attend\n\n\n\nContact\nFor tickets\, sponsorships\, or additional information:monroePBAevents@gmail.com \nResidents and local businesses are encouraged to participate\, sponsor\, or support—your involvement helps strengthen community-focused initiatives through the Monroe Township PBA.
URL:https://njspba.com/event/cigar-whiskey-night-brunswick-grove-monroe-twp-pba/
CATEGORIES:Local PBA Events
ATTACH;FMTTYPE=image/jpeg:https://njspba.com/wp-content/uploads/2026/02/cigar-night-monroe-pba.jpg
END:VEVENT
END:VCALENDAR