BEGIN:VCALENDAR
VERSION:2.0
PRODID:-//NJSPBA - ECPv6.15.20//NONSGML v1.0//EN
CALSCALE:GREGORIAN
METHOD:PUBLISH
X-ORIGINAL-URL:https://njspba.com
X-WR-CALDESC:Events for NJSPBA
REFRESH-INTERVAL;VALUE=DURATION:PT1H
X-Robots-Tag:noindex
X-PUBLISHED-TTL:PT1H
BEGIN:VTIMEZONE
TZID:America/New_York
BEGIN:DAYLIGHT
TZOFFSETFROM:-0500
TZOFFSETTO:-0400
TZNAME:EDT
DTSTART:20240310T070000
END:DAYLIGHT
BEGIN:STANDARD
TZOFFSETFROM:-0400
TZOFFSETTO:-0500
TZNAME:EST
DTSTART:20241103T060000
END:STANDARD
BEGIN:DAYLIGHT
TZOFFSETFROM:-0500
TZOFFSETTO:-0400
TZNAME:EDT
DTSTART:20250309T070000
END:DAYLIGHT
BEGIN:STANDARD
TZOFFSETFROM:-0400
TZOFFSETTO:-0500
TZNAME:EST
DTSTART:20251102T060000
END:STANDARD
BEGIN:DAYLIGHT
TZOFFSETFROM:-0500
TZOFFSETTO:-0400
TZNAME:EDT
DTSTART:20260308T070000
END:DAYLIGHT
BEGIN:STANDARD
TZOFFSETFROM:-0400
TZOFFSETTO:-0500
TZNAME:EST
DTSTART:20261101T060000
END:STANDARD
END:VTIMEZONE
BEGIN:VEVENT
DTSTART;TZID=America/New_York:20250531T110000
DTEND;TZID=America/New_York:20250531T180000
DTSTAMP:20260425T102727
CREATED:20250522T140853Z
LAST-MODIFIED:20250522T140853Z
UID:10000198-1748689200-1748714400@njspba.com
SUMMARY:Garden State C.O.P.S. Third Annual “A Day at the Races”
DESCRIPTION:📍 Monmouth Park\, 175 Oceanport Avenue\, Oceanport\, NJ 07757📍 Picnic Area #2 \nJoin the Garden State Concerns of Police Survivors (GSCOPS) for a heartfelt and memorable day at the races\, honoring and supporting the families of fallen officers. \nThis special event is free for survivors registered with the National Concerns of Police Survivors (C.O.P.S.) database — a time to come together in unity and remembrance. \n💙 Event Details:\n\nComplimentary food\, snacks\, soft drinks\, and water provided by GSCOPS\nBYOB permitted (no hard alcohol or glass bottles\, and coolers must enter via Picnic Gate)\nEnjoy access to Monmouth Park’s restaurants\, concession stands\, and bars\n\n🎟️ Registration Required by May 23\, 2025To register\, contact Mary DiNardo at:📧 gscopssecretary@gmail.comSubject Line: RACETRACK25Include your name\, your officer’s name\, department\, and EOW. \n🎫 Mobile Tickets RequiredTickets will be sent to your email or cell number prior to the event. \n👨‍👩‍👧 Guests Welcome!Non-survivor guests are invited to join for a $20 donation per person.Make checks payable to:Garden State C.O.P.S.📬 PO Box 322\, Beachwood\, NJ 08722Or Venmo (memo: RACETRACK25) \n☀️ Don’t forget your sunscreen and come ready for a day of fellowship\, fun\, and remembrance.
URL:https://njspba.com/event/garden-state-c-o-p-s-third-annual-a-day-at-the-races/
CATEGORIES:Survivor Welfare
ATTACH;FMTTYPE=image/png:https://njspba.com/wp-content/uploads/2025/05/Police-Survivors.png
END:VEVENT
BEGIN:VEVENT
DTSTART;VALUE=DATE:20250505
DTEND;VALUE=DATE:20250506
DTSTAMP:20260425T102727
CREATED:20250312T192453Z
LAST-MODIFIED:20250312T192453Z
UID:10000174-1746403200-1746489599@njspba.com
SUMMARY:NJSPBA Survivor & Welfare Fund Golf Tournament!
DESCRIPTION:Tee up for a great cause! The New Jersey State Policemen’s Benevolent Association Survivor & Welfare Fund invites you to a day of golf\, camaraderie\, and giving back. This special tournament supports the families of fallen officers and those facing hardships while serving our communities. \n📅 Event Date: Monday\, May 5\, 2025📍 Location: Trump National Golf Club\, 900 Lamington Road\, Bedminster\, NJ 07921 \nEvent Schedule\n☕ Registration & Breakfast – 8:30 AM🏌️ Shotgun Start – 10:00 AM (Scramble Format) 🍽 Lunch at the Turn – Available throughout the day🍸 Cocktail Reception – 3:00 PM – 4:00 PM (Business Attire Required)🍴 Dinner Reception – 4:00 PM – 5:00 PM (Business Attire Required) \nGolf Format & Contests\n🏆 Scramble Format with exciting contests: \n\nMen’s & Ladies’ Longest Drive\nClosest to the Pin\nLowest Gross Team Score\nHole-in-One Challenge\n\nRegistration & Sponsorship Opportunities\n✔ Foursome (Golf + Dinner Reception) – $2\,900✔ Individual Golfer (Golf + Dinner Reception) – $800✔ Dinner Reception Ticket Only – $200 \n💼 Sponsorships Available: \n\nEvent Sponsor – $10\,000 (Includes multiple sponsorship benefits)\nPlatinum Sponsor – $5\,000\nGold Sponsor – $3\,300\nDinner Sponsor – $2\,000\nBreakfast Sponsor – $1\,500\nCart Sponsor – $1\,000\nTee Sponsor – $500\nBanner Sponsor – $1\,000 (Company signage at key locations)\n\n📩 Sponsorship & Golfer Registration:Complete the attached form and send it to:📝 Debbie Perestuk – NJSPBA📍 158 Main Street\, Woodbridge\, NJ 07095📞 Phone: 732-636-8860📧 Email: dperestuk@njspba.com \n💙 Support a Worthy CauseThe NJSPBA Survivor & Welfare Fund assists families of fallen officers and supports those facing hardships. It also administers the NJ COP SHOT program\, offering rewards for information leading to arrests in cases of violence against law enforcement. \n🏌️‍♂️ Join us for a memorable day on the green while making a meaningful impact. Secure your spot today!
URL:https://njspba.com/event/njspba-survivor-welfare-fund-golf-tournament/
CATEGORIES:Survivor Welfare
ATTACH;FMTTYPE=image/jpeg:https://njspba.com/wp-content/uploads/2025/03/2025-NJSPBA-Survivor-Welfare-Golf-Outing_Page_2.jpg
END:VEVENT
END:VCALENDAR