BEGIN:VCALENDAR
VERSION:2.0
PRODID:-//NJSPBA - ECPv6.15.20//NONSGML v1.0//EN
CALSCALE:GREGORIAN
METHOD:PUBLISH
X-WR-CALNAME:NJSPBA
X-ORIGINAL-URL:https://njspba.com
X-WR-CALDESC:Events for NJSPBA
REFRESH-INTERVAL;VALUE=DURATION:PT1H
X-Robots-Tag:noindex
X-PUBLISHED-TTL:PT1H
BEGIN:VTIMEZONE
TZID:America/New_York
BEGIN:DAYLIGHT
TZOFFSETFROM:-0500
TZOFFSETTO:-0400
TZNAME:EDT
DTSTART:20250309T070000
END:DAYLIGHT
BEGIN:STANDARD
TZOFFSETFROM:-0400
TZOFFSETTO:-0500
TZNAME:EST
DTSTART:20251102T060000
END:STANDARD
BEGIN:DAYLIGHT
TZOFFSETFROM:-0500
TZOFFSETTO:-0400
TZNAME:EDT
DTSTART:20260308T070000
END:DAYLIGHT
BEGIN:STANDARD
TZOFFSETFROM:-0400
TZOFFSETTO:-0500
TZNAME:EST
DTSTART:20261101T060000
END:STANDARD
BEGIN:DAYLIGHT
TZOFFSETFROM:-0500
TZOFFSETTO:-0400
TZNAME:EDT
DTSTART:20270314T070000
END:DAYLIGHT
BEGIN:STANDARD
TZOFFSETFROM:-0400
TZOFFSETTO:-0500
TZNAME:EST
DTSTART:20271107T060000
END:STANDARD
END:VTIMEZONE
BEGIN:VEVENT
DTSTART;TZID=America/New_York:20260423T100000
DTEND;TZID=America/New_York:20260423T100000
DTSTAMP:20260422T080006
CREATED:20260302T141421Z
LAST-MODIFIED:20260302T141858Z
UID:10000287-1776938400-1776938400@njspba.com
SUMMARY:Pension Seminar
DESCRIPTION:Location: \n\n\n\n\n\nMainland PBA Local 77 Hall\n6712 Washington Street\nSuite 104\nEgg Harbor Twp.\, NJ 08234
URL:https://njspba.com/event/pension-seminar-33/
LOCATION:Mainland PBA Local 77 Hall 6712 Washington Street Suite 104 Egg Harbor Twp.\, Egg Harbor\, NJ\, United States
CATEGORIES:Local PBA Events
GEO:39.374067;-74.611764
END:VEVENT
BEGIN:VEVENT
DTSTART;TZID=America/New_York:20260423T183000
DTEND;TZID=America/New_York:20260423T223000
DTSTAMP:20260422T080006
CREATED:20260325T193021Z
LAST-MODIFIED:20260325T193021Z
UID:10000293-1776969000-1776983400@njspba.com
SUMMARY:Dueling Pianos Night — An Evening of Music\, Merriment\, and Unforgettable Fun!
DESCRIPTION:Get ready for a high-energy night of live entertainment at Dueling Pianos Night! Enjoy an interactive show filled with crowd favorites\, laughter\, and plenty of sing-along moments as talented pianists “duel” it out with music requests and friendly competition. It’s a fun\, festive evening out—perfect for friends\, colleagues\, and community members looking to celebrate together. \nEvent DetailsDate: Thursday\, April 23\, 2026Time: 6:30 PM – 10:30 PMLocation: The Grand Marquis\, Old Bridge\, NJHosted by: Middlesex\, Somerset\, Hunterdon County Conference \nTickets: $125 per personIncludes: \n\n4-hour top-shelf open bar\nCocktail party–style food stations\n\nTo purchase tickets:Please contact Kristen Delacruz at pba177delegate@gmail.com \n\nSponsorship Opportunities\nLocal businesses and organizations are invited to support this event through sponsorships. Sponsorships offer excellent visibility and recognition throughout the evening. \n\n$150 – Table SponsorBusiness logo displayed on each table in a frame.\n$500 – Table SponsorIncludes 2 tickets plus business logo displayed on each table in a frame.\n$750 – Custom Drinks SponsorIncludes 2 tickets and a specialty cocktail named after your business\, with logo displayed on bars and tables(Example: “Business Name Old Fashioned”)\n$1\,000 – Promo Table SponsorIncludes 2 tickets\, a promo table setup in the cocktail hour room\, and business logo displayed on tables.\n$1\,500 – Piano SponsorIncludes 4 tickets plus business logo displayed on pianos and tables in a frame.\n\n\nJoin Us!\nWhether you’re coming for the music\, the camaraderie\, or to support a great community event\, Dueling Pianos Night promises an evening you won’t forget. Reserve your ticket—or become a sponsor—and be part of the fun!
URL:https://njspba.com/event/dueling-pianos-night-an-evening-of-music-merriment-and-unforgettable-fun/
CATEGORIES:Local PBA Events
ATTACH;FMTTYPE=image/jpeg:https://njspba.com/wp-content/uploads/2026/03/DP2.jpg
END:VEVENT
BEGIN:VEVENT
DTSTART;TZID=America/New_York:20260429T100000
DTEND;TZID=America/New_York:20260429T100000
DTSTAMP:20260422T080006
CREATED:20260209T154831Z
LAST-MODIFIED:20260209T171132Z
UID:10000280-1777456800-1777456800@njspba.com
SUMMARY:Corrections Medal of Honor Golf Tournament
DESCRIPTION:REGISTER HERE\nResidents and community partners are warmly invited to attend and participate in the Corrections Medal of Honor Golf Tournament\, a special event honoring dedication\, service\, and excellence within the corrections community. \nThe tournament will take place on Wednesday\, April 29\, 2026\, at the beautiful Seaview Country Club in Galloway\, New Jersey\, with a 10:00 a.m. shotgun start. This event is proudly presented by One Voice United\, the NJSPBA Corrections Committee\, and NOMAD GCS. \nGolfers of all skill levels are welcome. Registration is available for individual golfers at $150 or foursomes at $600\, with participation limited to 144 total golfers. \nIn addition to golfer registration\, several sponsorship opportunities are available for local businesses and organizations wishing to show their support: \n\nGold Hole Sponsorship – $5\,000 (includes two foursomes\, hole signage\, and a vendor table at the OVU Conference)\nSilver Hole Sponsorship – $2\,500 (includes one foursome\, hole signage\, and a vendor table at the OVU Conference)\nBronze Hole Sponsorship – $1\,000 (includes hole signage and a vendor table at the OVU Conference)\n\nProceeds from the tournament support initiatives recognizing and honoring the commitment of corrections professionals. \nFor additional information\, registration details\, or to submit golfer names\, please contact Brian at Brian@OneVoiceUnited.org. \nWe encourage community members\, golfers\, and supporters to join us for a meaningful day of camaraderie\, recognition\, and sport. \nREGISTER HERE
URL:https://njspba.com/event/corrections-medal-of-honor-golf-tournament/
CATEGORIES:State PBA Events
ATTACH;FMTTYPE=image/png:https://njspba.com/wp-content/uploads/2026/02/Corrections-Medal-of-Honor-Gold-Tournament.png
END:VEVENT
END:VCALENDAR