BEGIN:VCALENDAR
VERSION:2.0
PRODID:-//NJSPBA - ECPv6.15.20//NONSGML v1.0//EN
CALSCALE:GREGORIAN
METHOD:PUBLISH
X-WR-CALNAME:NJSPBA
X-ORIGINAL-URL:https://njspba.com
X-WR-CALDESC:Events for NJSPBA
REFRESH-INTERVAL;VALUE=DURATION:PT1H
X-Robots-Tag:noindex
X-PUBLISHED-TTL:PT1H
BEGIN:VTIMEZONE
TZID:America/New_York
BEGIN:DAYLIGHT
TZOFFSETFROM:-0500
TZOFFSETTO:-0400
TZNAME:EDT
DTSTART:20230312T070000
END:DAYLIGHT
BEGIN:STANDARD
TZOFFSETFROM:-0400
TZOFFSETTO:-0500
TZNAME:EST
DTSTART:20231105T060000
END:STANDARD
BEGIN:DAYLIGHT
TZOFFSETFROM:-0500
TZOFFSETTO:-0400
TZNAME:EDT
DTSTART:20240310T070000
END:DAYLIGHT
BEGIN:STANDARD
TZOFFSETFROM:-0400
TZOFFSETTO:-0500
TZNAME:EST
DTSTART:20241103T060000
END:STANDARD
BEGIN:DAYLIGHT
TZOFFSETFROM:-0500
TZOFFSETTO:-0400
TZNAME:EDT
DTSTART:20250309T070000
END:DAYLIGHT
BEGIN:STANDARD
TZOFFSETFROM:-0400
TZOFFSETTO:-0500
TZNAME:EST
DTSTART:20251102T060000
END:STANDARD
END:VTIMEZONE
BEGIN:VEVENT
DTSTART;TZID=America/New_York:20241107T183000
DTEND;TZID=America/New_York:20241107T223000
DTSTAMP:20260422T064933
CREATED:20241029T152821Z
LAST-MODIFIED:20241029T175037Z
UID:10000002-1731004200-1731018600@njspba.com
SUMMARY:Parsippany Local PBA #131 Cigar Night
DESCRIPTION:$125 per guest includes: 3 cigars\, Bourbon/Whiskey/Scotch/Wine Tasting\, Cocktail style meal and dessert \nOpen the Flyer here
URL:https://njspba.com/event/parsippany-local-pba-131-cigar-night/
LOCATION:The Knoll Country Club
CATEGORIES:State PBA Events
END:VEVENT
END:VCALENDAR