BEGIN:VCALENDAR
VERSION:2.0
PRODID:-//NJSPBA - ECPv6.15.20//NONSGML v1.0//EN
CALSCALE:GREGORIAN
METHOD:PUBLISH
X-WR-CALNAME:NJSPBA
X-ORIGINAL-URL:https://njspba.com
X-WR-CALDESC:Events for NJSPBA
REFRESH-INTERVAL;VALUE=DURATION:PT1H
X-Robots-Tag:noindex
X-PUBLISHED-TTL:PT1H
BEGIN:VTIMEZONE
TZID:America/New_York
BEGIN:DAYLIGHT
TZOFFSETFROM:-0500
TZOFFSETTO:-0400
TZNAME:EDT
DTSTART:20230312T070000
END:DAYLIGHT
BEGIN:STANDARD
TZOFFSETFROM:-0400
TZOFFSETTO:-0500
TZNAME:EST
DTSTART:20231105T060000
END:STANDARD
BEGIN:DAYLIGHT
TZOFFSETFROM:-0500
TZOFFSETTO:-0400
TZNAME:EDT
DTSTART:20240310T070000
END:DAYLIGHT
BEGIN:STANDARD
TZOFFSETFROM:-0400
TZOFFSETTO:-0500
TZNAME:EST
DTSTART:20241103T060000
END:STANDARD
BEGIN:DAYLIGHT
TZOFFSETFROM:-0500
TZOFFSETTO:-0400
TZNAME:EDT
DTSTART:20250309T070000
END:DAYLIGHT
BEGIN:STANDARD
TZOFFSETFROM:-0400
TZOFFSETTO:-0500
TZNAME:EST
DTSTART:20251102T060000
END:STANDARD
END:VTIMEZONE
BEGIN:VEVENT
DTSTART;TZID=America/New_York:20240928T190000
DTEND;TZID=America/New_York:20240928T220000
DTSTAMP:20260425T090458
CREATED:20241029T175036Z
LAST-MODIFIED:20241029T175036Z
UID:10000096-1727550000-1727560800@njspba.com
SUMMARY:New Providence PBA Local #132 Annual Beefsteak
DESCRIPTION:$85/pp includes unlimited beer & soda\, music\, raffles and more
URL:https://njspba.com/event/new-providence-pba-local-132-annual-beefsteak/
LOCATION:Willam Paca Club\, 101 William Paca Pl\, New Providence\, NJ\, United States
CATEGORIES:State PBA Events
GEO:40.701541;-74.398322
X-APPLE-STRUCTURED-LOCATION;VALUE=URI;X-ADDRESS=Willam Paca Club 101 William Paca Pl New Providence NJ United States;X-APPLE-RADIUS=500;X-TITLE=101 William Paca Pl:geo:-74.398322,40.701541
END:VEVENT
END:VCALENDAR